BEGIN:VCALENDAR
VERSION:2.0
PRODID:-//Central Societies Committee - ECPv4.3.1.1//NONSGML v1.0//EN
CALSCALE:GREGORIAN
METHOD:PUBLISH
X-WR-CALNAME:Central Societies Committee
X-ORIGINAL-URL:http://trinitysocieties.ie
X-WR-CALDESC:Events for Central Societies Committee
BEGIN:VEVENT
DTSTART;TZID=Europe/London:20170307T150000
DTEND;TZID=Europe/London:20170307T160000
DTSTAMP:20171024T040551
CREATED:20170222T125119Z
LAST-MODIFIED:20170222T125119Z
UID:8470-1488898800-1488902400@trinitysocieties.ie
SUMMARY:Information session on running for CSC Exec 2017/18
DESCRIPTION:The CSC AGM takes place on 21st March where we will be electing 1 Honorary Treasurer\, 4 Officers and 8 ordinary members to the CSC Executive for 2017/18. Nominations for all roles will close 5pm 14th March.\n \nThe CSC Executive are your elected representatives\, and are appointed to carry out the daily running of the CSC\, allocating grants\, deciding on recognition of new societies etc and the group generally meet once a week. Being on the CSC Executive is a rewarding experience\, and gives you valuable insight into the inner workings of society life. \n \nWe will run an information session on the 7th March in the Eliz Room from 3 - 4\, when we will go through what being on exec entails\, and answer any of your questions should you be considering running. If you cannot make it there’s some information here - you can also contact the current executive or you can drop into the office and speak with Emma and Lucy anytime.\n \nIn addition to ordinary executive members\, there are four Officers - Chair\, Treasurer\, Secretary and Amenities Officer.  There is information here about their duties\, and you can drop by the CSC office and speak to any of the current officers during their office hours. \n \nThe role of Honorary Treasurer is a three year position\, and so is normally held by a postgraduate student or a member of staff. More information on this role can be found at the bottom of this page \n 
URL:http://trinitysocieties.ie/event/information-session-on-running-for-csc-exec-201718/
END:VEVENT
BEGIN:VEVENT
DTSTART;TZID=Europe/London:20170126T200000
DTEND;TZID=Europe/London:20170126T200000
DTSTAMP:20171024T040551
CREATED:20170125T113717Z
LAST-MODIFIED:20170125T120025Z
UID:8373-1485460800-1485460800@trinitysocieties.ie
SUMMARY:Caledonian Soc -  Robert Burns Supper & Ball
DESCRIPTION:26th January \n\nhttps://www.facebook.com/DUCalSoc/
URL:http://trinitysocieties.ie/event/caledonian-soc-robert-burns-supper-ball/
END:VEVENT
BEGIN:VEVENT
DTSTART;TZID=Europe/London:20170125T200000
DTEND;TZID=Europe/London:20170125T200000
DTSTAMP:20171024T040551
CREATED:20170125T113547Z
LAST-MODIFIED:20170125T113547Z
UID:8371-1485374400-1485374400@trinitysocieties.ie
SUMMARY:Players Ball - Fama et Fortuna
DESCRIPTION:25th January (SOLD OUT)\n\nhttps://www.facebook.com/events/1133402603447317\n\n\nTickets €25.\nON SALE IN THE ARTS BLOCK\, TUESDAY\, 23 JANUARY\, 12PM\n\nLINE UP:\n\nSOFT BOY RECORDS\nIndependant Dublin label Soft Boy Records will be playing all their best mixes on the night. Check out their stuff here: \nhttps://soundcloud.com/soft-boy-records\n\nSPUD GUN\nSpudGun\, a 5-8 piece psychedelic space goo band from various planets who melt genres together to reveal tales of their adventures through the universe. Putting on a very special show inspired by our theme\, Fama et Fortuna!\n\nATTENTION BÉBÉ\nA sixteen piece band 90s funk band! Having played EP\, Knockanstockan and Body & Soul as well as headliners at the Twisted Pepper\, Whelans and and the Button Factory - Attention Bébé are set to make things REAL funky.\n\nSARAH ELIZABETH BYRNE\nSarah Elizabeth Byrne is a DJ from the live duo act\, Faune\, who have played Body & Soul and Electric Picnic. She’ll be helping us to get our groove on 'til the early hours of the morn.\n\nCOME AND PLAY\n\n\n\n \n
URL:http://trinitysocieties.ie/event/players-ball-fama-et-fortuna/
END:VEVENT
BEGIN:VEVENT
DTSTART;TZID=Europe/London:20170124T170000
DTEND;TZID=Europe/London:20170124T180000
DTSTAMP:20171024T040551
CREATED:20170119T152224Z
LAST-MODIFIED:20170119T152224Z
UID:8364-1485277200-1485280800@trinitysocieties.ie
SUMMARY:CSC Term General Meeting
DESCRIPTION:\nThe CSC Hilary Term General Meeting will take place at 5p.m. on Tuesday 24th January in the Ui Caidhain Theatre\, Arts Building.\nAll Treasurers should attend.  
URL:http://trinitysocieties.ie/event/csc-term-general-meeting/
END:VEVENT
BEGIN:VEVENT
DTSTART;TZID=Europe/London:20170118T140000
DTEND;TZID=Europe/London:20170118T160000
DTSTAMP:20171024T040551
CREATED:20170116T121419Z
LAST-MODIFIED:20170116T121616Z
UID:8354-1484748000-1484755200@trinitysocieties.ie
SUMMARY:ReFreshers Fair 18th January
DESCRIPTION:Welcome to all of the new students joining TCD this term and to everyone else returning!\n\nIf you wish to join a society this term you can do so by simply attending an event and join and sign up at the door. However to make things a bit easier there will be a ReFreshers Fair this Wednesday\, where you can hit up a few at the same time!\n\n**Due to limited space not all societies will be present\, however CSC reps will be there to advise if the one you are looking for isn't**\n\n \n\n 
URL:http://trinitysocieties.ie/event/refreshers-fair-18th-january/
END:VEVENT
BEGIN:VEVENT
DTSTART;VALUE=DATE:20161219
DTEND;VALUE=DATE:20170116
DTSTAMP:20171024T040551
CREATED:20161208T134104Z
LAST-MODIFIED:20161208T134104Z
UID:8348-1482105600-1484611199@trinitysocieties.ie
SUMMARY:CSC Closed 19th Dec - 16th Jan
DESCRIPTION:The CSC Office will close from 19th Dec - 16th Jan \n\n 
URL:http://trinitysocieties.ie/event/csc-closed-19th-dec-16th-jan/
END:VEVENT
BEGIN:VEVENT
DTSTART;TZID=Europe/London:20161214T150000
DTEND;TZID=Europe/London:20161214T190000
DTSTAMP:20171024T040551
CREATED:20161207T104601Z
LAST-MODIFIED:20161207T104824Z
UID:8208-1481727600-1481742000@trinitysocieties.ie
SUMMARY:TAW Christmas Fair
DESCRIPTION: \n\n\n\nwww.facebook.com/events/1743022202691253/
URL:http://trinitysocieties.ie/event/taw-christmas-fair/
END:VEVENT
BEGIN:VEVENT
DTSTART;TZID=Europe/London:20161212T170000
DTEND;TZID=Europe/London:20161212T180000
DTSTAMP:20171024T040551
CREATED:20161206T112300Z
LAST-MODIFIED:20161206T112300Z
UID:8199-1481562000-1481565600@trinitysocieties.ie
SUMMARY:Annual carol service
DESCRIPTION:\n\nThe annual carol service is a long-established tradition in the College\, and for many of us it marks the start of Christmas time. Whether you are a returning devotee or experiencing it for the first time\, we look forward to welcoming you on Monday 12th December.\n\nHear the choir sing seasonal music by Pearsall\, Mathias\, Mendelssohn and more\, starting at 17:05 in the College Chapel.\n\nArrive early to get a seat!\n\nEntry is free and open to all. Reception of mince pies and refreshments to follow in the Atrium.
URL:http://trinitysocieties.ie/event/annual-carol-service/
END:VEVENT
BEGIN:VEVENT
DTSTART;TZID=Europe/London:20161215T193000
DTEND;TZID=Europe/London:20161215T210000
DTSTAMP:20171024T040551
CREATED:20161205T160122Z
LAST-MODIFIED:20161205T160122Z
UID:8192-1481830200-1481835600@trinitysocieties.ie
SUMMARY:Christian Union Carol Service
DESCRIPTION:
URL:http://trinitysocieties.ie/event/christian-union-carol-service/
END:VEVENT
BEGIN:VEVENT
DTSTART;VALUE=DATE:20170203
DTEND;VALUE=DATE:20170204
DTSTAMP:20171024T040551
CREATED:20161130T115908Z
LAST-MODIFIED:20170126T162836Z
UID:8173-1486080000-1486252799@trinitysocieties.ie
SUMMARY:Trinity Economic Forum 17
DESCRIPTION:\n\nThe Trinity Economic Forum is Ireland’s first student economics forum and was launched by the President of Ireland in February of 2012.
URL:http://trinitysocieties.ie/event/8173/
END:VEVENT
END:VCALENDAR