BEGIN:VCALENDAR
VERSION:2.0
PRODID:-//Central Societies Committee - ECPv4.3.1.1//NONSGML v1.0//EN
CALSCALE:GREGORIAN
METHOD:PUBLISH
X-WR-CALNAME:Central Societies Committee
X-ORIGINAL-URL:http://trinitysocieties.ie
X-WR-CALDESC:Events for Central Societies Committee
BEGIN:VEVENT
DTSTART;TZID=Europe/London:20161104T080000
DTEND;TZID=Europe/London:20161104T170000
DTSTAMP:20171030T094549
CREATED:20161027T132558Z
LAST-MODIFIED:20161027T132558Z
UID:8033-1478246400-1478278800@trinitysocieties.ie
SUMMARY:TCD Med Day
DESCRIPTION:\n\nTrinity Med Day takes place next Friday November 4th. To donate 2 euro\, text MED to 50300. Alternatively\, visit http://www.supportstjames.ie/ways-…/online-charity-donation/\, and choose MED DAY to donate online
URL:http://trinitysocieties.ie/event/tcd-med-day/
LOCATION:Ireland
ORGANIZER;CN="MedDay":MAILTO:medday@csc.tcd.ie
END:VEVENT
END:VCALENDAR