BEGIN:VCALENDAR
VERSION:2.0
PRODID:-//Central Societies Committee - ECPv4.3.1.1//NONSGML v1.0//EN
CALSCALE:GREGORIAN
METHOD:PUBLISH
X-WR-CALNAME:Central Societies Committee
X-ORIGINAL-URL:http://trinitysocieties.ie
X-WR-CALDESC:Events for Central Societies Committee
BEGIN:VEVENT
DTSTART;VALUE=DATE:20170203
DTEND;VALUE=DATE:20170204
DTSTAMP:20171030T095155
CREATED:20161130T115908Z
LAST-MODIFIED:20170126T162836Z
UID:8173-1486080000-1486252799@trinitysocieties.ie
SUMMARY:Trinity Economic Forum 17
DESCRIPTION:\n\nThe Trinity Economic Forum is Ireland’s first student economics forum and was launched by the President of Ireland in February of 2012.
URL:http://trinitysocieties.ie/event/8173/
END:VEVENT
END:VCALENDAR