BEGIN:VCALENDAR
VERSION:2.0
PRODID:-//Central Societies Committee - ECPv4.3.1.1//NONSGML v1.0//EN
CALSCALE:GREGORIAN
METHOD:PUBLISH
X-WR-CALNAME:Central Societies Committee
X-ORIGINAL-URL:http://trinitysocieties.ie
X-WR-CALDESC:Events for Central Societies Committee
BEGIN:VEVENT
DTSTART;TZID=Europe/London:20161123T080000
DTEND;TZID=Europe/London:20161123T170000
DTSTAMP:20171030T100110
CREATED:20161123T104732Z
LAST-MODIFIED:20161123T105556Z
UID:8144-1479888000-1479920400@trinitysocieties.ie
SUMMARY:The Hist Annual Trinity Vs Oxford
DESCRIPTION:\n\nAnnual Trinity vs. Oxford Debate 
URL:http://trinitysocieties.ie/event/8144/
END:VEVENT
END:VCALENDAR